{
 "currentVersion": 11.4,
 "serviceDescription": "Elevation/ClarkforkBitterroot_HFDEM",
 "name": "Elevation/ClarkforkBitterroot_HFDEM",
 "description": "",
 "extent": {
  "xmin": 726749.9999999972,
  "ymin": 905849.9999999853,
  "xmax": 1023704.9999999972,
  "ymax": 1064249.9999999853,
  "spatialReference": {
   "wkid": 103094,
   "latestWkid": 6515
  }
 },
 "initialExtent": {
  "xmin": 726749.9999999972,
  "ymin": 905849.9999999853,
  "xmax": 1023704.9999999972,
  "ymax": 1064249.9999999853,
  "spatialReference": {
   "wkid": 103094,
   "latestWkid": 6515
  }
 },
 "fullExtent": {
  "xmin": 726749.9999999972,
  "ymin": 905849.9999999853,
  "xmax": 1023704.9999999972,
  "ymax": 1064249.9999999853,
  "spatialReference": {
   "wkid": 103094,
   "latestWkid": 6515
  }
 },
 "sortableFields": "",
 "bandCount": 1,
 "pixelType": "F32",
 "minValues": [
  700.647705078125
 ],
 "maxValues": [
  6629.70947265625
 ],
 "meanValues": [
  3832.274531351728
 ],
 "stdvValues": [
  731.8419588826047
 ],
 "hasMultidimensions": false,
 "pixelSizeX": 3,
 "pixelSizeY": 3,
 "meanPixelSize": 0.9144000000000001,
 "datasetFormat": "FGDBR",
 "uncompressedSize": 20905632000,
 "blockWidth": 128,
 "blockHeight": 128,
 "compressionType": "LZ77",
 "bandNames": [
  "Band_1"
 ],
 "allowCopy": true,
 "allowAnalysis": true,
 "itemAccess": false,
 "inspectionCapabilities": "",
 "minPixelSize": 0,
 "maxPixelSize": 0,
 "copyrightText": "",
 "serviceDataType": "esriImageServiceDataTypeGeneric",
 "serviceSourceType": "esriImageServiceSourceTypeDataset",
 "objectIdField": "",
 "fields": [],
 "capabilities": "Image,Metadata,Mensuration",
 "defaultMosaicMethod": "Center",
 "allowedMosaicMethods": "",
 "sortField": "",
 "sortValue": null,
 "sortAscending": true,
 "mosaicOperator": "First",
 "defaultCompressionQuality": 75,
 "defaultResamplingMethod": "Bilinear",
 "maxImageHeight": 4100,
 "maxImageWidth": 15000,
 "allowRasterFunction": true,
 "rasterFunctionInfos": [
  {
   "name": "None",
   "description": "",
   "help": ""
  }
 ],
 "rasterTypeInfos": [
  {
   "name": "Raster Dataset",
   "description": "Supports all ArcGIS Raster Datasets",
   "help": ""
  }
 ],
 "mensurationCapabilities": "Basic",
 "hasHistograms": true,
 "hasColormap": false,
 "hasRasterAttributeTable": false,
 "minScale": 0,
 "maxScale": 0,
 "exportTilesAllowed": false,
 "supportsStatistics": false,
 "supportsAdvancedQueries": false,
 "editFieldsInfo": null,
 "ownershipBasedAccessControlForRasters": null,
 "allowComputeTiePoints": false,
 "useStandardizedQueries": true,
 "advancedQueryCapabilities": {
  "useStandardizedQueries": true,
  "supportsStatistics": false,
  "supportsOrderBy": false,
  "supportsDistinct": false,
  "supportsPagination": false
 },
 "spatialReference": {
  "wkid": 103094,
  "latestWkid": 6515
 }
}
