{
 "currentVersion": 11.4,
 "serviceDescription": "Elevation/DNRC_ClarkforkBitterroot_2019_HFDEM_10m",
 "name": "Elevation/DNRC_ClarkforkBitterroot_2019_HFDEM_10m",
 "description": "",
 "extent": {
  "xmin": 726749.9999999972,
  "ymin": 905851.0447999854,
  "xmax": 1023698.8283999972,
  "ymax": 1064249.9999999853,
  "spatialReference": {
   "wkid": 103094,
   "latestWkid": 6515
  }
 },
 "initialExtent": {
  "xmin": 726749.9999999972,
  "ymin": 905851.0447999854,
  "xmax": 1023698.8283999972,
  "ymax": 1064249.9999999853,
  "spatialReference": {
   "wkid": 103094,
   "latestWkid": 6515
  }
 },
 "fullExtent": {
  "xmin": 726749.9999999972,
  "ymin": 905851.0447999854,
  "xmax": 1023698.8283999972,
  "ymax": 1064249.9999999853,
  "spatialReference": {
   "wkid": 103094,
   "latestWkid": 6515
  }
 },
 "sortableFields": "",
 "bandCount": 1,
 "pixelType": "F32",
 "minValues": [
  2948.39990234375
 ],
 "maxValues": [
  6627.166015625
 ],
 "meanValues": [
  3832.2694340837015
 ],
 "stdvValues": [
  731.8370466079006
 ],
 "hasMultidimensions": false,
 "pixelSizeX": 32.8084,
 "pixelSizeY": 32.80839999999999,
 "meanPixelSize": 10.000000319999998,
 "datasetFormat": "FGDBR",
 "uncompressedSize": 174792912,
 "blockWidth": 128,
 "blockHeight": 128,
 "compressionType": "LZ77",
 "bandNames": [
  "Band_1"
 ],
 "allowCopy": true,
 "allowAnalysis": true,
 "itemAccess": false,
 "inspectionCapabilities": "",
 "minPixelSize": 0,
 "maxPixelSize": 0,
 "copyrightText": "",
 "serviceDataType": "esriImageServiceDataTypeGeneric",
 "serviceSourceType": "esriImageServiceSourceTypeDataset",
 "objectIdField": "",
 "fields": [],
 "capabilities": "Image,Metadata,Mensuration",
 "defaultMosaicMethod": "Center",
 "allowedMosaicMethods": "",
 "sortField": "",
 "sortValue": null,
 "sortAscending": true,
 "mosaicOperator": "First",
 "defaultCompressionQuality": 75,
 "defaultResamplingMethod": "Bilinear",
 "maxImageHeight": 4100,
 "maxImageWidth": 15000,
 "allowRasterFunction": true,
 "rasterFunctionInfos": [
  {
   "name": "None",
   "description": "",
   "help": ""
  }
 ],
 "rasterTypeInfos": [
  {
   "name": "Raster Dataset",
   "description": "Supports all ArcGIS Raster Datasets",
   "help": ""
  }
 ],
 "mensurationCapabilities": "Basic",
 "hasHistograms": true,
 "hasColormap": false,
 "hasRasterAttributeTable": false,
 "minScale": 0,
 "maxScale": 0,
 "exportTilesAllowed": false,
 "supportsStatistics": false,
 "supportsAdvancedQueries": false,
 "editFieldsInfo": null,
 "ownershipBasedAccessControlForRasters": null,
 "allowComputeTiePoints": false,
 "useStandardizedQueries": true,
 "advancedQueryCapabilities": {
  "useStandardizedQueries": true,
  "supportsStatistics": false,
  "supportsOrderBy": false,
  "supportsDistinct": false,
  "supportsPagination": false
 },
 "spatialReference": {
  "wkid": 103094,
  "latestWkid": 6515
 }
}
