View In:
ArcGIS JavaScript
ArcGIS Online Map Viewer
ArcGIS Earth
Service Description: Elevation/MT3DEP_2021_Phase_3_1_DEM_10m
Name: Elevation/MT3DEP_2021_Phase_3_1_DEM_10m
Description:
Single Fused Map Cache: false
Extent:
XMin: 654444.1391071723
YMin: 905851.9547794962
XMax: 1023702.6811071723
YMax: 1252538.3175794962
Spatial Reference: 103094
(6515)
LatestVCSWkid(0)
Initial Extent:
XMin: 654444.1391071723
YMin: 905851.9547794962
XMax: 1023702.6811071723
YMax: 1252538.3175794962
Spatial Reference: 103094
(6515)
LatestVCSWkid(0)
Full Extent:
XMin: 654444.1391071723
YMin: 905851.9547794962
XMax: 1023702.6811071723
YMax: 1252538.3175794962
Spatial Reference: 103094
(6515)
LatestVCSWkid(0)
Pixel Size X: 32.8084
Pixel Size Y: 32.8084
Band Count: 1
Pixel Type: F32
RasterFunction Infos: {"rasterFunctionInfos": [{
"name": "None",
"description": "",
"help": ""
}]}
Mensuration Capabilities: Basic
Inspection Capabilities:
Has Histograms: true
Has Colormap: false
Has Multi Dimensions : false
Rendering Rule:
Min Scale: 0
Max Scale: 0
Copyright Text:
Service Data Type: esriImageServiceDataTypeGeneric
Min Values: 2984.197265625
Max Values: 9358.150390625
Mean Values: 5175.219296456689
Standard Deviation Values: 1036.611409778107
Object ID Field:
Fields:
None
Default Mosaic Method: Center
Allowed Mosaic Methods:
SortField:
SortValue: null
Mosaic Operator: First
Default Compression Quality: 75
Default Resampling Method: Bilinear
Max Record Count: null
Max Image Height: 4100
Max Image Width: 15000
Max Download Image Count: null
Max Mosaic Image Count: null
Allow Raster Function: true
Allow Copy: true
Allow Analysis: true
Allow Compute TiePoints: false
Supports Statistics: false
Supports Advanced Queries: false
Use StandardizedQueries: true
Raster Type Infos:
Name: Raster Dataset
Description: Supports all ArcGIS Raster Datasets
Help:
Has Raster Attribute Table: false
Edit Fields Info: null
Ownership Based AccessControl For Rasters: null
Child Resources:
Info
Histograms
Statistics
Key Properties
Legend
Raster Function Infos
Supported Operations:
Export Image
Identify
Measure
Compute Histograms
Compute Statistics Histograms
Get Samples
Compute Class Statistics
Query Boundary
Compute Pixel Location
Compute Angles
Validate
Project