View In:
ArcGIS JavaScript
ArcGIS Online Map Viewer
ArcGIS Earth
Service Description: Elevation/MT3DEP_2021_Phase_3_4_DEM
Name: Elevation/MT3DEP_2021_Phase_3_4_DEM
Description:
Single Fused Map Cache: false
Extent:
XMin: 774895.0131233553
YMin: 947505.1364829456
XMax: 1024279.0131233553
YMax: 1141158.1364829456
Spatial Reference: 103094
(6515)
LatestVCSWkid(0)
Initial Extent:
XMin: 774895.0131233553
YMin: 947505.1364829456
XMax: 1024279.0131233553
YMax: 1141158.1364829456
Spatial Reference: 103094
(6515)
LatestVCSWkid(0)
Full Extent:
XMin: 774895.0131233553
YMin: 947505.1364829456
XMax: 1024279.0131233553
YMax: 1141158.1364829456
Spatial Reference: 103094
(6515)
LatestVCSWkid(0)
Pixel Size X: 3.0
Pixel Size Y: 3.0
Band Count: 1
Pixel Type: F32
RasterFunction Infos: {"rasterFunctionInfos": [{
"name": "None",
"description": "",
"help": ""
}]}
Mensuration Capabilities: Basic
Inspection Capabilities:
Has Histograms: true
Has Colormap: false
Has Multi Dimensions : false
Rendering Rule:
Min Scale: 0
Max Scale: 0
Copyright Text:
Service Data Type: esriImageServiceDataTypeGeneric
Min Values: 681.0383911132812
Max Values: 7641.66796875
Mean Values: 4390.389904483535
Standard Deviation Values: 1004.9113440858024
Object ID Field:
Fields:
None
Default Mosaic Method: Center
Allowed Mosaic Methods:
SortField:
SortValue: null
Mosaic Operator: First
Default Compression Quality: 75
Default Resampling Method: Bilinear
Max Record Count: null
Max Image Height: 4100
Max Image Width: 15000
Max Download Image Count: null
Max Mosaic Image Count: null
Allow Raster Function: true
Allow Copy: true
Allow Analysis: true
Allow Compute TiePoints: false
Supports Statistics: false
Supports Advanced Queries: false
Use StandardizedQueries: true
Raster Type Infos:
Name: Raster Dataset
Description: Supports all ArcGIS Raster Datasets
Help:
Has Raster Attribute Table: false
Edit Fields Info: null
Ownership Based AccessControl For Rasters: null
Child Resources:
Info
Histograms
Statistics
Key Properties
Legend
Raster Function Infos
Supported Operations:
Export Image
Identify
Measure
Compute Histograms
Compute Statistics Histograms
Get Samples
Compute Class Statistics
Query Boundary
Compute Pixel Location
Compute Angles
Validate
Project