View In:
ArcGIS JavaScript
ArcGIS Online Map Viewer
ArcGIS Earth
Service Description: Elevation/MissoulaCounty_DEM_30m
Name: Elevation/MissoulaCounty_DEM_30m
Description:
Single Fused Map Cache: false
Extent:
XMin: -115.00055526955855
YMin: 45.999444250842146
XMax: -112.99944414964233
YMax: 48.000555370758406
Spatial Reference: 4269
(4269)
Initial Extent:
XMin: -115.00055526955855
YMin: 45.999444250842146
XMax: -112.99944414964233
YMax: 48.000555370758406
Spatial Reference: 4269
(4269)
Full Extent:
XMin: -115.00055526955855
YMin: 45.999444250842146
XMax: -112.99944414964233
YMax: 48.000555370758406
Spatial Reference: 4269
(4269)
Pixel Size X: 9.259259300001006E-5
Pixel Size Y: 9.259259300001202E-5
Band Count: 1
Pixel Type: F32
RasterFunction Infos: {"rasterFunctionInfos": [{
"help": "",
"name": "None",
"description": ""
}]}
Mensuration Capabilities: Basic
Inspection Capabilities:
Has Histograms: true
Has Colormap: false
Has Multi Dimensions : false
Rendering Rule:
Min Scale: 0
Max Scale: 0
Copyright Text:
Service Data Type: esriImageServiceDataTypeGeneric
Min Values: 615.54901123046875
Max Values: 3246.732421875
Mean Values: 1578.7253901951062
Standard Deviation Values: 431.64944144503198
Object ID Field:
Fields:
None
Default Mosaic Method: Center
Allowed Mosaic Methods:
SortField:
SortValue: N/A
Mosaic Operator: First
Default Compression Quality: 75
Default Resampling Method: Bilinear
Max Record Count: null
Max Image Height: 4100
Max Image Width: 15000
Max Download Image Count: null
Max Mosaic Image Count: null
Allow Raster Function: true
Allow Copy: true
Allow Analysis: true
Allow Compute TiePoints: false
Supports Statistics: false
Supports Advanced Queries: false
Use StandardizedQueries: false
Raster Type Infos:
Name: Raster Dataset
Description: Supports all ArcGIS Raster Datasets
Help:
Has Raster Attribute Table: false
Edit Fields Info: N/A
Ownership Based AccessControl For Rasters: N/A
Child Resources:
Info
Histograms
Statistics
Key Properties
Legend
Raster Function Infos
Supported Operations:
Export Image
Identify
Measure
Compute Histograms
Compute Statistics Histograms
Get Samples
Compute Class Statistics
Query Boundary
Compute Pixel Location
Compute Angles
Validate
Project