View In:
ArcGIS JavaScript
ArcGIS Online Map Viewer
ArcGIS Earth
Service Description: Plats/COSScans
Name: Plats/COSScans
Description:
Single Fused Map Cache: false
Extent:
XMin: -0.5004505141405389
YMin: -1290071.4482138865
XMax: 2514497.777949186
YMax: 383865.36661421356
Spatial Reference: 103093
(6514)
Initial Extent:
XMin: -0.5004505141405389
YMin: -1290071.4482138865
XMax: 2514497.777949186
YMax: 383865.36661421356
Spatial Reference: 103093
(6514)
Full Extent:
XMin: -0.5004505141405389
YMin: -1290071.4482138865
XMax: 2514497.777949186
YMax: 383865.36661421356
Spatial Reference: 103093
(6514)
Pixel Size X: 0.0013546600000000002
Pixel Size Y: 0.0013546600000000002
Band Count: 1
Pixel Type: U1
RasterFunction Infos: {"rasterFunctionInfos": [{
"help": "",
"name": "None",
"description": ""
}]}
Mensuration Capabilities: Basic
Inspection Capabilities:
Has Histograms: true
Has Colormap: false
Has Multi Dimensions : false
Rendering Rule:
Min Scale: 0
Max Scale: 0
Resampling: false
Copyright Text:
Service Data Type: esriImageServiceDataTypeGeneric
Min Values: 0
Max Values: 1
Mean Values: 0.50271433696041667
Standard Deviation Values: 0.49999861105548998
Object ID Field: objectid
Fields:
-
objectid
(
alias: OBJECTID, type: esriFieldTypeOID
)
-
name
(
length: 200, alias: Name, type: esriFieldTypeString
)
-
minps
(
alias: MinPS, type: esriFieldTypeDouble
)
-
maxps
(
alias: MaxPS, type: esriFieldTypeDouble
)
-
lowps
(
alias: LowPS, type: esriFieldTypeDouble
)
-
highps
(
alias: HighPS, type: esriFieldTypeDouble
)
-
category
(
alias: Category, type: esriFieldTypeInteger
, Coded Values:
[0: Unknown]
, [1: Primary]
, [2: Overview]
, ...6 more...
)
-
tag
(
length: 100, alias: Tag, type: esriFieldTypeString
)
-
groupname
(
length: 100, alias: GroupName, type: esriFieldTypeString
)
-
productname
(
length: 100, alias: ProductName, type: esriFieldTypeString
)
-
centerx
(
alias: CenterX, type: esriFieldTypeDouble
)
-
centery
(
alias: CenterY, type: esriFieldTypeDouble
)
-
zorder
(
alias: ZOrder, type: esriFieldTypeInteger
)
-
shape
(
alias: Shape, type: esriFieldTypeGeometry
)
Default Mosaic Method: Northwest
Allowed Mosaic Methods: NorthWest,Center,LockRaster,ByAttribute,Nadir,Viewpoint,Seamline,None
SortField:
SortValue: N/A
Mosaic Operator: First
Default Compression Quality: 75
Default Resampling Method: Bilinear
Max Record Count: 1000
Max Image Height: 4100
Max Image Width: 15000
Max Download Image Count: 20
Max Mosaic Image Count: 20
Allow Raster Function: true
Allow Copy: true
Allow Analysis: true
Allow Compute TiePoints: false
Supports Statistics: true
Supports Advanced Queries: true
Use StandardizedQueries: true
Raster Type Infos:
Name: Raster Dataset
Description: Supports all ArcGIS Raster Datasets
Help:
Has Raster Attribute Table: false
Edit Fields Info: N/A
Ownership Based AccessControl For Rasters: N/A
Child Resources:
Info
Histograms
Statistics
Key Properties
Legend
Raster Function Infos
Supported Operations:
Export Image
Query
Identify
Measure
Compute Histograms
Compute Statistics Histograms
Get Samples
Compute Class Statistics
Query GPS Info
Find Images
Image to Map
Map to Image
Measure from Image
Image to Map Multiray
Query Boundary
Compute Pixel Location
Compute Angles
Validate
Project