View In:
ArcGIS JavaScript
ArcGIS Online Map Viewer
ArcGIS Earth
Service Description: Plats/DEPlats
Name: Plats/DEPlats
Description:
Single Fused Map Cache: false
Extent:
XMin: -3.9152009412646294E-4
YMin: -1.939802896231413E-4
XMax: 332280.516708523
YMax: 380870.4417030198
Spatial Reference: 103093
(6514)
Initial Extent:
XMin: -3.9152009412646294E-4
YMin: -1.939802896231413E-4
XMax: 332280.516708523
YMax: 380870.4417030198
Spatial Reference: 103093
(6514)
Full Extent:
XMin: -3.9152009412646294E-4
YMin: -1.939802896231413E-4
XMax: 332280.516708523
YMax: 380870.4417030198
Spatial Reference: 103093
(6514)
Pixel Size X: 6.773330000000001E-4
Pixel Size Y: 6.773330000000001E-4
Band Count: 1
Pixel Type: U1
RasterFunction Infos: {"rasterFunctionInfos": [{
"help": "",
"name": "None",
"description": "Make a Raster or Raster Dataset into a Function Raster Dataset."
}]}
Mensuration Capabilities:
Inspection Capabilities:
Has Histograms: true
Has Colormap: false
Has Multi Dimensions : false
Rendering Rule:
Min Scale: 0
Max Scale: 0
Copyright Text:
Service Data Type: esriImageServiceDataTypeGeneric
Min Values: 0
Max Values: 1
Mean Values: 0.78526501227026368
Standard Deviation Values: 0.41063837285151289
Object ID Field: objectid
Fields:
-
objectid
(
alias: objectid, type: esriFieldTypeOID
)
-
name
(
length: 200, alias: name, type: esriFieldTypeString
)
-
minps
(
alias: minps, type: esriFieldTypeDouble
)
-
maxps
(
alias: maxps, type: esriFieldTypeDouble
)
-
lowps
(
alias: lowps, type: esriFieldTypeDouble
)
-
highps
(
alias: highps, type: esriFieldTypeDouble
)
-
category
(
alias: category, type: esriFieldTypeInteger
, Coded Values:
[0: Unknown]
, [1: Primary]
, [2: Overview]
, ...6 more...
)
-
tag
(
length: 100, alias: tag, type: esriFieldTypeString
)
-
groupname
(
length: 100, alias: groupname, type: esriFieldTypeString
)
-
productname
(
length: 100, alias: productname, type: esriFieldTypeString
)
-
centerx
(
alias: centerx, type: esriFieldTypeDouble
)
-
centery
(
alias: centery, type: esriFieldTypeDouble
)
-
zorder
(
alias: zorder, type: esriFieldTypeInteger
)
-
shape
(
alias: shape, type: esriFieldTypeGeometry
)
-
st_area(shape)
(
alias: st_area(shape), type: esriFieldTypeDouble
)
-
st_length(shape)
(
alias: st_length(shape), type: esriFieldTypeDouble
)
Default Mosaic Method: Northwest
Allowed Mosaic Methods: NorthWest,Center,LockRaster,ByAttribute,Nadir,Viewpoint,Seamline,None
SortField:
SortValue: N/A
Mosaic Operator: First
Default Compression Quality: 75
Default Resampling Method: Bilinear
Max Record Count: 1000
Max Image Height: 4100
Max Image Width: 15000
Max Download Image Count: 20
Max Mosaic Image Count: 20
Allow Raster Function: true
Allow Copy: true
Allow Analysis: true
Allow Compute TiePoints: false
Supports Statistics: true
Supports Advanced Queries: true
Use StandardizedQueries: true
Raster Type Infos:
Name: Raster Dataset
Description: Supports all ArcGIS Raster Datasets
Help:
Has Raster Attribute Table: false
Edit Fields Info: N/A
Ownership Based AccessControl For Rasters: N/A
Child Resources:
Info
Histograms
Statistics
Key Properties
Legend
Raster Function Infos
Supported Operations:
Export Image
Query
Identify
Compute Histograms
Compute Statistics Histograms
Get Samples
Compute Class Statistics
Query GPS Info
Find Images
Image to Map
Map to Image
Measure from Image
Image to Map Multiray
Query Boundary
Compute Pixel Location
Compute Angles
Validate
Project