View In:
ArcGIS JavaScript
ArcGIS Online Map Viewer
ArcGIS Earth
Service Description: Elevation/DNRC_ClarkforkBitterroot_2019_HFDEM_10m
Name: Elevation/DNRC_ClarkforkBitterroot_2019_HFDEM_10m
Description:
Single Fused Map Cache: false
Extent:
XMin: 726749.9999999972
YMin: 905851.0447999854
XMax: 1023698.8283999972
YMax: 1064249.9999999853
Spatial Reference: 103094
(6515)
LatestVCSWkid(0)
Initial Extent:
XMin: 726749.9999999972
YMin: 905851.0447999854
XMax: 1023698.8283999972
YMax: 1064249.9999999853
Spatial Reference: 103094
(6515)
LatestVCSWkid(0)
Full Extent:
XMin: 726749.9999999972
YMin: 905851.0447999854
XMax: 1023698.8283999972
YMax: 1064249.9999999853
Spatial Reference: 103094
(6515)
LatestVCSWkid(0)
Pixel Size X: 32.8084
Pixel Size Y: 32.80839999999999
Band Count: 1
Pixel Type: F32
RasterFunction Infos: {"rasterFunctionInfos": [{
"name": "None",
"description": "",
"help": ""
}]}
Mensuration Capabilities: Basic
Inspection Capabilities:
Has Histograms: true
Has Colormap: false
Has Multi Dimensions : false
Rendering Rule:
Min Scale: 0
Max Scale: 0
Copyright Text:
Service Data Type: esriImageServiceDataTypeGeneric
Min Values: 2948.39990234375
Max Values: 6627.166015625
Mean Values: 3832.2694340837015
Standard Deviation Values: 731.8370466079006
Object ID Field:
Fields:
None
Default Mosaic Method: Center
Allowed Mosaic Methods:
SortField:
SortValue: null
Mosaic Operator: First
Default Compression Quality: 75
Default Resampling Method: Bilinear
Max Record Count: null
Max Image Height: 4100
Max Image Width: 15000
Max Download Image Count: null
Max Mosaic Image Count: null
Allow Raster Function: true
Allow Copy: true
Allow Analysis: true
Allow Compute TiePoints: false
Supports Statistics: false
Supports Advanced Queries: false
Use StandardizedQueries: true
Raster Type Infos:
Name: Raster Dataset
Description: Supports all ArcGIS Raster Datasets
Help:
Has Raster Attribute Table: false
Edit Fields Info: null
Ownership Based AccessControl For Rasters: null
Child Resources:
Info
Histograms
Statistics
Key Properties
Legend
Raster Function Infos
Supported Operations:
Export Image
Identify
Measure
Compute Histograms
Compute Statistics Histograms
Get Samples
Compute Class Statistics
Query Boundary
Compute Pixel Location
Compute Angles
Validate
Project